BEGIN:VCALENDAR
VERSION:2.0
PRODID:-//ChamberMaster//Event Calendar 2.0//EN
METHOD:PUBLISH
X-PUBLISHED-TTL:P3D
REFRESH-INTERVAL:P3D
CALSCALE:GREGORIAN
BEGIN:VEVENT
DTSTART:20221202T180000Z
DTEND:20221202T220000Z
X-MICROSOFT-CDO-ALLDAYEVENT:FALSE
SUMMARY:Outdoor Holiday Photo Booth at White Tail Run Winery
DESCRIPTION:Come take advantage of our Outdoor Christmas Photo booth for Free!  We will be dusting off the old tractor and decorating it in style.  This old time display will make the perfect backdrop for your family photos.  Bring your own cameras for your personal photos.  Children are welcome!
X-ALT-DESC;FMTTYPE=text/html:Come take advantage of our Outdoor Christmas Photo booth for Free!&nbsp\; We will be dusting off the old tractor and decorating it in style.&nbsp\; This old time display will make the perfect backdrop for your family photos.&nbsp\; Bring your own cameras for your personal photos.&nbsp\; Children are welcome!
LOCATION:White Tail Run Winery 2327 N 400 Road Edgerton\, KS 66021
UID:e.50.3178
SEQUENCE:3
DTSTAMP:20260420T114714Z
URL:https://business.gardnerchamber.com/events/details/outdoor-holiday-photo-booth-at-white-tail-run-winery-3178
END:VEVENT

END:VCALENDAR
