BEGIN:VCALENDAR
VERSION:2.0
PRODID:-//ChamberMaster//Event Calendar 2.0//EN
METHOD:PUBLISH
X-PUBLISHED-TTL:P3D
REFRESH-INTERVAL:P3D
CALSCALE:GREGORIAN
BEGIN:VEVENT
DTSTART:20260207T150000Z
DTEND:20260207T210000Z
X-MICROSOFT-CDO-ALLDAYEVENT:FALSE
SUMMARY:Marriage Retreat at Divine Mercy Parish
DESCRIPTION:MARRIAGE RETREAT\n\nThe Cross of Marriage:\n\nA Brutal & Beautiful Path to Heaven\n\nPresented by : CHAD PIROTTE\n\nSaturday\, February 7\, 2026 9am-3:30pm\n\nDivine Mercy Parish\n\n555 W. Main Street\, Gardner KS\n\nSpend the day with your spouse\, including free childcare and a wonderful meal\, and walk away with tools to help you strengthen your marriage throughout the year.  Signing up for the retreat is not mandatory\, but will help us plan for food.  Sign up for childcare is highly encouraged due to staffing needs.  \n\nSign up using the QR code on attached ad\n\nor:  https://divinemercyks.org/adult-formation\n\nOr call 913-856-7781 x 0105
X-ALT-DESC;FMTTYPE=text/html:<div>MARRIAGE RETREAT<br />\nThe Cross of Marriage:<br />\nA Brutal &amp\; Beautiful Path to Heaven</div>\n\n<div><strong>Presented by : CHAD PIROTTE</strong><br />\nSaturday\, February 7\, 2026 9am-3:30pm</div>\n\n<div>Divine Mercy Parish</div>\n\n<div>555 W. Main Street\, Gardner KS</div>\n\n<div>Spend the day with your spouse\, including free childcare and a wonderful meal\, and walk away with tools to help you strengthen your marriage throughout the year.&nbsp\; Signing up for the retreat is not mandatory\, but will help us plan for food.&nbsp\; Sign up for childcare is highly encouraged due to staffing needs.&nbsp\;&nbsp\;</div>\n\n<div>Sign up using the QR code on attached ad<br />\nor:&nbsp\;&nbsp\;<a href="https://divinemercyks.org/adult-formation" style="color: rgb(17\, 85\, 204)\; cursor: pointer\;" target="_blank">https://divinemercyks.org/adult-formation</a>\n\n<div>Or call&nbsp\;<span style="background-color:rgba(0\, 0\, 0\, 0)\; color:rgb(0\, 0\, 0)\; font-family:-apple-system\,helveticaneue">913-856-7781 x 0105</span></div>\n</div>\n
LOCATION:DIVINE MERCY PARISH 555 W Main Street Gardner KS 66030
UID:e.50.5647
SEQUENCE:3
DTSTAMP:20260421T142017Z
URL:https://business.gardnerchamber.com/events/details/marriage-retreat-at-divine-mercy-parish-02-01-2025-5647
END:VEVENT

END:VCALENDAR
