BEGIN:VCALENDAR
VERSION:2.0
PRODID:-//ChamberMaster//Event Calendar 2.0//EN
METHOD:PUBLISH
X-PUBLISHED-TTL:P3D
REFRESH-INTERVAL:P3D
CALSCALE:GREGORIAN
BEGIN:VEVENT
DTSTART:20230401T190000Z
DTEND:20230401T213000Z
X-MICROSOFT-CDO-ALLDAYEVENT:FALSE
SUMMARY:Gardner Grange #68 150 Years of Service Open House
DESCRIPTION:You are invited to an Open House honoring 150 Years of Service to the Gardner Community on Saturday\, April 1st from 2:00 to 4:30pm.  Remarks and Presentations at 2:30pm.  \n\n\n\nRefreshments will be served.\n\nDoor Prizes!\n\n\n\nQuestions or Comments contact gardnergrange@gmail.com or text 913-522-7452.
X-ALT-DESC;FMTTYPE=text/html:You are invited to an Open House honoring 150 Years of Service to the Gardner Community on Saturday\, April 1st from 2:00 to 4:30pm.&nbsp\; Remarks and Presentations at 2:30pm.&nbsp\;&nbsp\;<br />\n<br />\nRefreshments will be served.<br />\nDoor Prizes!<br />\n<br />\nQuestions or Comments contact <a href="mailto:gardnergrange@gmail.com?subject=150%20Year%20Celebration">gardnergrange@gmail.com</a> or text 913-522-7452.&nbsp\;
LOCATION:Gardner Grange Hall (on the fairgrounds)
UID:e.50.3288
SEQUENCE:3
DTSTAMP:20260425T000059Z
URL:https://business.gardnerchamber.com/events/details/gardner-grange-68-150-years-of-service-open-house-3288
END:VEVENT

END:VCALENDAR
