BEGIN:VCALENDAR
VERSION:2.0
PRODID:-//ChamberMaster//Event Calendar 2.0//EN
METHOD:PUBLISH
X-PUBLISHED-TTL:P3D
REFRESH-INTERVAL:P3D
CALSCALE:GREGORIAN
BEGIN:VEVENT
DTSTART:20201002T133000Z
DTEND:20201002T200000Z
X-MICROSOFT-CDO-ALLDAYEVENT:FALSE
SUMMARY:Gardner Edgerton Chamber Golf Tournament
DESCRIPTION:Join the Gardner Edgerton Chamber for a day of golf and networking on Friday\, October 2nd and check out the newly improved Gardner Golf Course. Great Life Golf has put a ton of work into the course and it's looking better than ever according to the regulars.   It will be a 4-person scramble\, shotgun-start at 9am\, preceded by a ribbon cutting celebrating the renovations and improvements made recently. \n\n\n\nSponsorships Available:\n\nHole sponsorships - $100 (includes signage and pre/post event recognition)\n\nF&B Beverage - $300 (includes signage\, pre/post event recognition and on-site recognition)\n\nTitle Sponsor - $500 (includes a foursome in the tourney\, pre/post event recognition and more)\n\n\n\nAll sponsors get a 2-for-1 opportunity as they will be included as sponsors for the 8th Annual GE Sporting Clay event on October 1st at Powder Creek Sporting Park as well. \n\n \n\nWe hope you'll be able to join us for this great event!
X-ALT-DESC;FMTTYPE=text/html:<div>Join the Gardner Edgerton Chamber&nbsp\;for a day of golf and networking on Friday\, October 2nd and check out the newly improved Gardner Golf Course. Great Life Golf has put a ton of work into the course and it&#39\;s looking better than ever according to the regulars.&nbsp\; &nbsp\;It will be a 4-person scramble\, shotgun-start at 9am\, preceded by a ribbon cutting celebrating the renovations and improvements made recently.&nbsp\;</div>\n\n<div><br />\nSponsorships Available:<br />\nHole sponsorships - $100 (includes signage and pre/post event recognition)<br />\nF&amp\;B Beverage - $300 (includes signage\, pre/post event recognition and on-site recognition)<br />\nTitle Sponsor - $500 (includes a foursome in the tourney\, pre/post event recognition and more)<br />\n<br />\n<em>All sponsors get a 2-for-1 opportunity as they will be included as sponsors for the 8th Annual GE Sporting Clay event on October 1st at Powder Creek Sporting Park as well.&nbsp\;</em><br />\n&nbsp\;</div>\n\n<div>We hope you&rsquo\;ll be able to join us for this great event!</div>\n
LOCATION:Gardner Golf Course (Operated by Great Life Golf)
UID:e.50.2459
SEQUENCE:3
DTSTAMP:20260420T123405Z
URL:https://business.gardnerchamber.com/events/details/gardner-edgerton-chamber-golf-tournament-2459
END:VEVENT

END:VCALENDAR
