BEGIN:VCALENDAR
VERSION:2.0
PRODID:-//ChamberMaster//Event Calendar 2.0//EN
METHOD:PUBLISH
X-PUBLISHED-TTL:P3D
REFRESH-INTERVAL:P3D
CALSCALE:GREGORIAN
BEGIN:VEVENT
DTSTART;VALUE=DATE:20190608
DTEND;VALUE=DATE:20190609
TRANSP:TRANSPARENT
X-MICROSOFT-CDO-ALLDAYEVENT:TRUE
SUMMARY:Festival on the Trails (Sponsors Only)
DESCRIPTION:Become a "Sponsor" for the 2019 Festival on the Trails. Taking place in downtown Gardner\, this annual event draws 10\,000+ for a variety of activities including live music\, a 5K color run\, crafts and commercial booths\, children's activities\, a car show and much more! Each year the festival is headlined by a national music act and this year we're proud to weclome to Gardner\, CMA Recording Artist and former ACM Vocal Group of the Year - Sawyer Brown.\n\n\n\nThe Festival on the Trails is an independent community organization led by volunteers from the local area. We are always looking for volunteers to be involved with the event\, whether it's working the event or serving on a committee leading up to the festival.
X-ALT-DESC;FMTTYPE=text/html:<span style="box-sizing: content-box\; bottom: auto\; clear: none\; color: inherit\; content: normal\; direction: inherit\; empty-cells: show\; font-style: inherit\; font-variant: inherit\; font-weight: inherit\; font-stretch: inherit\; font-size: inherit\; font-family: helvetica\, sans-serif\; left: auto\; letter-spacing: inherit\; line-height: inherit\; margin: 0px\; max-height: none\; max-width: none\; min-height: initial\; min-width: initial\; opacity: 1\; outline-offset: 0px\; overflow: visible\; padding: 0px\; position: static\; resize: none\; right: auto\; table-layout: auto\; text-align: inherit\; text-indent: inherit\; text-overflow: clip\; text-transform: inherit\; top: auto\; vertical-align: baseline\; visibility: inherit\; white-space: inherit\; word-break: inherit\; word-spacing: inherit\; word-wrap: inherit\; z-index: auto\; background: none\; border: none\; border-collapse: separate\; border-radius: 0px\; height: auto\; width: auto\; box-shadow: none\;">Become a &quot\;Sponsor&quot\; for the 2019 Festival on the Trails. Taking place in downtown Gardner\, this annual event draws 10\,000+ for a variety of activities including live music\, a 5K color run\, crafts and commercial booths\, children&#39\;s activities\, a car show and much more! Each year the festival is headlined by a national music act and this year we&#39\;re proud to weclome to Gardner\, CMA Recording Artist and former ACM Vocal Group of the Year</span><span style="box-sizing: content-box\; bottom: auto\; clear: none\; content: normal\; direction: inherit\; empty-cells: show\; font-variant: inherit\; font-weight: inherit\; font-stretch: inherit\; font-family: helvetica\, sans-serif\; left: auto\; letter-spacing: inherit\; line-height: inherit\; margin: 0px\; max-height: none\; max-width: none\; min-height: initial\; min-width: initial\; opacity: 1\; outline-offset: 0px\; overflow: visible\; padding: 0px\; position: static\; resize: none\; right: auto\; table-layout: auto\; text-align: inherit\; text-indent: inherit\; text-overflow: clip\; text-transform: inherit\; top: auto\; vertical-align: baseline\; visibility: inherit\; white-space: inherit\; word-break: inherit\; word-spacing: inherit\; overflow-wrap: inherit\; z-index: auto\; background: none\; border: none\; border-collapse: separate\; border-radius: 0px\; height: auto\; width: auto\; box-shadow: none\; font-size: 14px\;"><font color="#444444"><i>&nbsp\;- </i><strong><em>Sawyer Brown</em></strong><i>.</i></font></span><br />\n<br />\n<em style="color: rgb(51\, 51\, 51)\; font-family: sans-serif\, Arial\, Verdana\, &quot\;Trebuchet MS&quot\;\; font-size: 13px\;"><span style="font-family: helvetica\, sans-serif\;">The Festival on the Trails is an independent community organization led by volunteers from the local area. We are always looking for volunteers to be involved with the event\, whether it&#39\;s working the event or serving on a committee leading up to the festival.&nbsp\;</span></em>
LOCATION:Near Downtown Gardner (corner of Shawnee & Elm St.)
UID:e.50.1866
SEQUENCE:3
DTSTAMP:20260424T033109Z
URL:https://business.gardnerchamber.com/events/details/festival-on-the-trails-sponsors-only-1866
END:VEVENT

END:VCALENDAR
